BEGIN:VCALENDAR
VERSION:2.0
PRODID:-//ChamberMaster//Event Calendar 2.0//EN
METHOD:PUBLISH
X-PUBLISHED-TTL:P1H
REFRESH-INTERVAL:P1H
CALSCALE:GREGORIAN
BEGIN:VTIMEZONE
TZID:America/Chicago
BEGIN:DAYLIGHT
RRULE:FREQ=YEARLY;BYMONTH=3;BYDAY=2SU
DTSTART:20070101T000000
TZOFFSETFROM:-0600
TZOFFSETTO:-0500
TZNAME:Central Daylight Time
END:DAYLIGHT
BEGIN:STANDARD
RRULE:FREQ=YEARLY;BYMONTH=11;BYDAY=1SU
DTSTART:20070101T000000
TZOFFSETFROM:-0500
TZOFFSETTO:-0600
TZNAME:Central Standard Time
END:STANDARD
END:VTIMEZONE
BEGIN:VEVENT
DTSTART;TZID=America/Chicago:20260512T120000
DTEND;TZID=America/Chicago:20260512T133000
X-MICROSOFT-CDO-ALLDAYEVENT:FALSE
SUMMARY:Chamber Members Lunch Meeting - May 12th\, 2026
DESCRIPTION:Join us for the Delavan Chamber monthly member lunch meeting on Tuesday\, May 12th from 12:00pm - 1:30pm. Our meeting will be hosted and sponsored by Advanced Auto Clinic and Sweet Zen Spa & Coffee. We will be enjoying a catered lunch by JoJo's Pizza & Pasta. Our special guest speaker is Courtney Castelein representing Sweet Zen Spa & Coffee. The topic- Thinking outside the healthcare box.
X-ALT-DESC;FMTTYPE=text/html:Join us for the Delavan Chamber monthly member lunch meeting on Tuesday\, May 12th from 12:00pm - 1:30pm. Our meeting will be hosted and sponsored by Advanced Auto Clinic and Sweet Zen Spa & Coffee. We will be enjoying a catered lunch by JoJo's Pizza & Pasta. Our special guest speaker is Courtney Castelein representing Sweet Zen Spa & Coffee. The topic- Thinking outside the healthcare box.
LOCATION:4300 WI-50 Delavan WI 53115
UID:e.2846.1448701
SEQUENCE:3
DTSTAMP:20260422T165746Z
URL:https://business.delavanwi.org/chamber-member-sponsored-event-calendar/Details/chamber-members-lunch-meeting-may-12th-2026-1715909?sourceTypeId=Hub
END:VEVENT
END:VCALENDAR
